BEGIN:VCALENDAR
VERSION:2.0
PRODID:-//OlyEcosystems - ECPv6.15.20//NONSGML v1.0//EN
CALSCALE:GREGORIAN
METHOD:PUBLISH
X-WR-CALNAME:OlyEcosystems
X-ORIGINAL-URL:https://olyecosystems.org
X-WR-CALDESC:Events for OlyEcosystems
REFRESH-INTERVAL;VALUE=DURATION:PT1H
X-Robots-Tag:noindex
X-PUBLISHED-TTL:PT1H
BEGIN:VTIMEZONE
TZID:America/Los_Angeles
BEGIN:DAYLIGHT
TZOFFSETFROM:-0800
TZOFFSETTO:-0700
TZNAME:PDT
DTSTART:20250309T100000
END:DAYLIGHT
BEGIN:STANDARD
TZOFFSETFROM:-0700
TZOFFSETTO:-0800
TZNAME:PST
DTSTART:20251102T090000
END:STANDARD
BEGIN:DAYLIGHT
TZOFFSETFROM:-0800
TZOFFSETTO:-0700
TZNAME:PDT
DTSTART:20260308T100000
END:DAYLIGHT
BEGIN:STANDARD
TZOFFSETFROM:-0700
TZOFFSETTO:-0800
TZNAME:PST
DTSTART:20261101T090000
END:STANDARD
BEGIN:DAYLIGHT
TZOFFSETFROM:-0800
TZOFFSETTO:-0700
TZNAME:PDT
DTSTART:20270314T100000
END:DAYLIGHT
BEGIN:STANDARD
TZOFFSETFROM:-0700
TZOFFSETTO:-0800
TZNAME:PST
DTSTART:20271107T090000
END:STANDARD
END:VTIMEZONE
BEGIN:VEVENT
DTSTART;TZID=America/Los_Angeles:20260119T100000
DTEND;TZID=America/Los_Angeles:20260119T140000
DTSTAMP:20260423T031424
CREATED:20251224T032446Z
LAST-MODIFIED:20260105T204405Z
UID:1349-1768816800-1768831200@olyecosystems.org
SUMMARY:Volunteer Work Party on MLK Day at Cooper Crest
DESCRIPTION:In honor of Martin Luther King Jr.\, we will be holding a planting party at Cooper Crest on January 19th. Planting will be focused around a 1-acre area that was not restored while we worked to get control of a Japanese knotweed infestation. That area is  now ready for planting and we will start with cedars and firs. Work will entail planting\, mulching\, and some invasive weed control. Will you join us for a day of service on MLK Day? \nBring gloves and be ready for some muddy fun! We’ll provide tools\, snacks\, coffee\, and tea. \nIf you’re driving\, please park on 20th Ave NW or in the parking lot at Marshall Middle School. We look forward to seeing you there!
URL:https://olyecosystems.org/event/volunteer-work-party-at-the-new-bob-barnes-legacy-grove/
LOCATION:Cooper Crest\, 2922 20th Ave NW\, Olympia\, 98502\, United States
ORGANIZER;CN="Olympia Ecosystems":MAILTO:info@olyecosystems.org
END:VEVENT
END:VCALENDAR