BEGIN:VCALENDAR
VERSION:2.0
PRODID:-//OlyEcosystems - ECPv6.15.20//NONSGML v1.0//EN
CALSCALE:GREGORIAN
METHOD:PUBLISH
X-WR-CALNAME:OlyEcosystems
X-ORIGINAL-URL:https://olyecosystems.org
X-WR-CALDESC:Events for OlyEcosystems
REFRESH-INTERVAL;VALUE=DURATION:PT1H
X-Robots-Tag:noindex
X-PUBLISHED-TTL:PT1H
BEGIN:VTIMEZONE
TZID:America/Los_Angeles
BEGIN:DAYLIGHT
TZOFFSETFROM:-0800
TZOFFSETTO:-0700
TZNAME:PDT
DTSTART:20240310T100000
END:DAYLIGHT
BEGIN:STANDARD
TZOFFSETFROM:-0700
TZOFFSETTO:-0800
TZNAME:PST
DTSTART:20241103T090000
END:STANDARD
BEGIN:DAYLIGHT
TZOFFSETFROM:-0800
TZOFFSETTO:-0700
TZNAME:PDT
DTSTART:20250309T100000
END:DAYLIGHT
BEGIN:STANDARD
TZOFFSETFROM:-0700
TZOFFSETTO:-0800
TZNAME:PST
DTSTART:20251102T090000
END:STANDARD
BEGIN:DAYLIGHT
TZOFFSETFROM:-0800
TZOFFSETTO:-0700
TZNAME:PDT
DTSTART:20260308T100000
END:DAYLIGHT
BEGIN:STANDARD
TZOFFSETFROM:-0700
TZOFFSETTO:-0800
TZNAME:PST
DTSTART:20261101T090000
END:STANDARD
END:VTIMEZONE
BEGIN:VEVENT
DTSTART;TZID=America/Los_Angeles:20250925T090000
DTEND;TZID=America/Los_Angeles:20250925T150000
DTSTAMP:20260425T075354
CREATED:20250920T180937Z
LAST-MODIFIED:20250920T180937Z
UID:1313-1758790800-1758812400@olyecosystems.org
SUMMARY:Work Party at West Bay Woods
DESCRIPTION:This is unusual\, we are holding a work party on a week day! \nOur friends at TY Lin Engineering have offered to do some volunteer work on September 25 and we thought it would be nice if other volunteers could join in. \nWe will be working on the West Bay Park Connector property to remove invasive species. This is the beginning of the next phase of work on West Bay Woods.  \nEventually all trails will be connected! \nWHERE: 1107 West Bay Drive\, across from West Bay Park\nWHEN: Thursday September 25\, 9am – 3pm\nWHAT TO BRING: Work gloves and clippers/pruners if you have them\nWHERE TO PARK: Please park at the West Bay Park and walk up the north trail. Our property is right across West Bay Drive.
URL:https://olyecosystems.org/event/work-party-at-west-bay-woods/
LOCATION:West Bay Woods
END:VEVENT
END:VCALENDAR