BEGIN:VCALENDAR
VERSION:2.0
PRODID:-//OlyEcosystems - ECPv6.15.20//NONSGML v1.0//EN
CALSCALE:GREGORIAN
METHOD:PUBLISH
X-WR-CALNAME:OlyEcosystems
X-ORIGINAL-URL:https://olyecosystems.org
X-WR-CALDESC:Events for OlyEcosystems
REFRESH-INTERVAL;VALUE=DURATION:PT1H
X-Robots-Tag:noindex
X-PUBLISHED-TTL:PT1H
BEGIN:VTIMEZONE
TZID:America/Los_Angeles
BEGIN:DAYLIGHT
TZOFFSETFROM:-0800
TZOFFSETTO:-0700
TZNAME:PDT
DTSTART:20230312T100000
END:DAYLIGHT
BEGIN:STANDARD
TZOFFSETFROM:-0700
TZOFFSETTO:-0800
TZNAME:PST
DTSTART:20231105T090000
END:STANDARD
BEGIN:DAYLIGHT
TZOFFSETFROM:-0800
TZOFFSETTO:-0700
TZNAME:PDT
DTSTART:20240310T100000
END:DAYLIGHT
BEGIN:STANDARD
TZOFFSETFROM:-0700
TZOFFSETTO:-0800
TZNAME:PST
DTSTART:20241103T090000
END:STANDARD
BEGIN:DAYLIGHT
TZOFFSETFROM:-0800
TZOFFSETTO:-0700
TZNAME:PDT
DTSTART:20250309T100000
END:DAYLIGHT
BEGIN:STANDARD
TZOFFSETFROM:-0700
TZOFFSETTO:-0800
TZNAME:PST
DTSTART:20251102T090000
END:STANDARD
END:VTIMEZONE
BEGIN:VEVENT
DTSTART;TZID=America/Los_Angeles:20240115T100000
DTEND;TZID=America/Los_Angeles:20240115T140000
DTSTAMP:20260423T074254
CREATED:20240106T081104Z
LAST-MODIFIED:20240106T081104Z
UID:1168-1705312800-1705327200@olyecosystems.org
SUMMARY:MLK Jr Day Planting Party - January 15th
DESCRIPTION:Join us Monday\, January 15 at 1515 West Bay Drive for a big day of planting native plants and shrubs into Stormwater Park North (the northern unit of the West Bay Woods) by the heron and salmon sculptures at the West Bay Art Crossing. We will be underplanting this section of shoreline forest\, recently freed from English ivy\, with conifers and native understory plants to reboot forest succession for the next generation. We will also be spreading mulch and doing some light weeding. \nWalk or ride your bike if you can. If you are coming from the Northwest Neighborhood\, you can walk down the Woodard Ave NW Pathway. We’ll have tools\, snacks\, water\, hot tea & coffee to share (bring your own mug!). \nWhere: 1515 West Bay Dr. NW\, Olympia\, WA 98502 \nWhen: Monday\, January 15th\, 10AM – 2PM \nWhere to park: Limited parking is available at the end of Woodard Ave. Overflow parking is available at Smyth Landing (1801 West Bay Drive NW). \nWhat to bring: Appropriate clothes for the weather\, boots\, work gloves\, water. We will provide all other tools and refreshments. \nWhy it’s important\nThis project consists of a detached remnant shoreline forest that includes the impervious slabs of now demolished out-buildings of a defunct plywood mill. The hillside forest is dominated by bigleaf maple and red alder. \nThe understory and successional conifers\, however\, are largely absent\, as the area has been long neglected and is now covered in a think blanket of English ivy\, that has inhibited natural regrowth. \nThis area presents a meaningful opportunity to address water quality issues with green infrastructure and forest restoration. Our long-term goals are to install neighborhood-scale green infrastructure to treat 730\,000 gallons per day of urban runoff that currently flows directly into Budd Inlet and to create a publicly-accessible community space that supports education\, recreation\, and art.
URL:https://olyecosystems.org/event/mlk-jr-day-planting-party-january-15th/
LOCATION:West Bay Woods
END:VEVENT
END:VCALENDAR