BEGIN:VCALENDAR
VERSION:2.0
PRODID:-//OlyEcosystems - ECPv6.15.20//NONSGML v1.0//EN
CALSCALE:GREGORIAN
METHOD:PUBLISH
X-WR-CALNAME:OlyEcosystems
X-ORIGINAL-URL:https://olyecosystems.org
X-WR-CALDESC:Events for OlyEcosystems
REFRESH-INTERVAL;VALUE=DURATION:PT1H
X-Robots-Tag:noindex
X-PUBLISHED-TTL:PT1H
BEGIN:VTIMEZONE
TZID:UTC
BEGIN:STANDARD
TZOFFSETFROM:+0000
TZOFFSETTO:+0000
TZNAME:UTC
DTSTART:20220101T000000
END:STANDARD
END:VTIMEZONE
BEGIN:VEVENT
DTSTART;TZID=UTC:20231118T100000
DTEND;TZID=UTC:20231118T140000
DTSTAMP:20260421T044938
CREATED:20230331T162630Z
LAST-MODIFIED:20230905T161617Z
UID:643-1700301600-1700316000@olyecosystems.org
SUMMARY:West Bay Woods Work Party – November 2023
DESCRIPTION:Our new Stormwater Park above West Bay Drive is nearing completion!  We are excited to open this section of the West Bay Woods up to the public\, but we need to get some plants in the ground first!  Please come help OlyEcosystems plant native species at Stormwater Park South.  Parking is very limited on site\, so please be prepared to park at the West Bay “Rotary” Park and walk a block or so to the site.  Please bring gloves and a shovel\, if you have one.  We will have some tools available.
URL:https://olyecosystems.org/event/west-bay-woods-work-party-november-2023/
LOCATION:West Bay Woods
END:VEVENT
END:VCALENDAR