BEGIN:VCALENDAR
VERSION:2.0
PRODID:-//OlyEcosystems - ECPv6.15.20//NONSGML v1.0//EN
CALSCALE:GREGORIAN
METHOD:PUBLISH
X-WR-CALNAME:OlyEcosystems
X-ORIGINAL-URL:https://olyecosystems.org
X-WR-CALDESC:Events for OlyEcosystems
REFRESH-INTERVAL;VALUE=DURATION:PT1H
X-Robots-Tag:noindex
X-PUBLISHED-TTL:PT1H
BEGIN:VTIMEZONE
TZID:UTC
BEGIN:STANDARD
TZOFFSETFROM:+0000
TZOFFSETTO:+0000
TZNAME:UTC
DTSTART:20220101T000000
END:STANDARD
END:VTIMEZONE
BEGIN:VEVENT
DTSTART;TZID=UTC:20231021T100000
DTEND;TZID=UTC:20231021T140000
DTSTAMP:20260423T030147
CREATED:20230331T162506Z
LAST-MODIFIED:20230905T161430Z
UID:640-1697882400-1697896800@olyecosystems.org
SUMMARY:West Bay Woods Work Party - October 2023
DESCRIPTION:OlyEcosystems is working to eventually connect the restoration area on West Bay Drive\, at the south end of the Preserve\, to the rest of the West Bay Woods. The weeds are starting to take over at this site and we need your help.  Please come help remove invasive species at the restoration area in the south West Bay Woods\, near West Bay Drive and Brawne Ave.\, across from the Rotary Park. \nPlease park at the Rotary park and walk up to the Restoration site just across West Bay Drive\, on the lot north of 909 West Bay Drive here. \nWe will have some tools\, but please consider bringing water\, gloves\, and garden tools for weeding.
URL:https://olyecosystems.org/event/october-volunteer-work-party/
LOCATION:West Bay Woods
END:VEVENT
END:VCALENDAR