BEGIN:VCALENDAR
VERSION:2.0
PRODID:-//OlyEcosystems - ECPv6.15.20//NONSGML v1.0//EN
CALSCALE:GREGORIAN
METHOD:PUBLISH
X-WR-CALNAME:OlyEcosystems
X-ORIGINAL-URL:https://olyecosystems.org
X-WR-CALDESC:Events for OlyEcosystems
REFRESH-INTERVAL;VALUE=DURATION:PT1H
X-Robots-Tag:noindex
X-PUBLISHED-TTL:PT1H
BEGIN:VTIMEZONE
TZID:UTC
BEGIN:STANDARD
TZOFFSETFROM:+0000
TZOFFSETTO:+0000
TZNAME:UTC
DTSTART:20220101T000000
END:STANDARD
END:VTIMEZONE
BEGIN:VEVENT
DTSTART;TZID=UTC:20230819T100000
DTEND;TZID=UTC:20230819T130000
DTSTAMP:20260425T134633
CREATED:20230331T162259Z
LAST-MODIFIED:20230815T060634Z
UID:634-1692439200-1692450000@olyecosystems.org
SUMMARY:August Volunteer Work Party
DESCRIPTION:What combines time in the great outdoors\, the satisfaction of improving local habitat\, and spending time with others who enjoy the same? Join us to Nix the Knotweed along the edge of Green Cove Creek. Sponsored by the Olympia Ecosystems (OlyEcosystems) along with our stewards. \nWhy nix the knotweed? Knotweed is highly invasive and spreads quickly. It can quickly dominate stream banks\, sides of roads\, gardens\, and other sunny\, moist\, and disturbed sites. It shades out native plants\, reduces access to streams\, and its strong roots can even destroy buildings. \nWhen? From 10am-1pm on Saturday August 19\, 2023 \nWhere? Park on the corner of 14th Ave NW and Kaiser Road NW or at the Grass Lakes Park entrance on Kaiser Road\, then carefully cross Kaiser Road (site is on the West side of Kaiser Road NW). \nWhat to wear/bring? Wear any comfortable clothing\, and bring any sharp cutting tool: hand loppers\, pruners\, or small landscape scythes work well. Coffee and water will be provided. BYOC – bring your own cup! \nPlease email Diane at diane@olyecosystems.org to register!
URL:https://olyecosystems.org/event/august-volunteer-work-party/
LOCATION:Green Cove Creek Preserve
END:VEVENT
END:VCALENDAR