BEGIN:VCALENDAR
VERSION:2.0
PRODID:-//OlyEcosystems - ECPv6.15.20//NONSGML v1.0//EN
CALSCALE:GREGORIAN
METHOD:PUBLISH
X-WR-CALNAME:OlyEcosystems
X-ORIGINAL-URL:https://olyecosystems.org
X-WR-CALDESC:Events for OlyEcosystems
REFRESH-INTERVAL;VALUE=DURATION:PT1H
X-Robots-Tag:noindex
X-PUBLISHED-TTL:PT1H
BEGIN:VTIMEZONE
TZID:America/Los_Angeles
BEGIN:DAYLIGHT
TZOFFSETFROM:-0800
TZOFFSETTO:-0700
TZNAME:PDT
DTSTART:20250309T100000
END:DAYLIGHT
BEGIN:STANDARD
TZOFFSETFROM:-0700
TZOFFSETTO:-0800
TZNAME:PST
DTSTART:20251102T090000
END:STANDARD
BEGIN:DAYLIGHT
TZOFFSETFROM:-0800
TZOFFSETTO:-0700
TZNAME:PDT
DTSTART:20260308T100000
END:DAYLIGHT
BEGIN:STANDARD
TZOFFSETFROM:-0700
TZOFFSETTO:-0800
TZNAME:PST
DTSTART:20261101T090000
END:STANDARD
BEGIN:DAYLIGHT
TZOFFSETFROM:-0800
TZOFFSETTO:-0700
TZNAME:PDT
DTSTART:20270314T100000
END:DAYLIGHT
BEGIN:STANDARD
TZOFFSETFROM:-0700
TZOFFSETTO:-0800
TZNAME:PST
DTSTART:20271107T090000
END:STANDARD
END:VTIMEZONE
BEGIN:VEVENT
DTSTART;TZID=America/Los_Angeles:20260516T100000
DTEND;TZID=America/Los_Angeles:20260516T140000
DTSTAMP:20260420T021045
CREATED:20260417T171242Z
LAST-MODIFIED:20260417T171242Z
UID:1435-1778925600-1778940000@olyecosystems.org
SUMMARY:May Volunteer Party in the West Bay Woods
DESCRIPTION:Our May volunteer work party will once again be in the West Bay Woods. Your help has been invaluable in clearing this beautiful forest and we thank you! But there is still work to be done\, so please join us for our next spring work party – we look forward to seeing you there!
URL:https://olyecosystems.org/event/may-volunteer-party-in-the-west-bay-woods/
LOCATION:Dickinson Ave NW Trailhead\, 1319 Dickinson Ave NW\, Olympia\, WA\, 98502\, United States
END:VEVENT
END:VCALENDAR