BEGIN:VCALENDAR
VERSION:2.0
PRODID:-//OlyEcosystems - ECPv6.15.20//NONSGML v1.0//EN
CALSCALE:GREGORIAN
METHOD:PUBLISH
X-WR-CALNAME:OlyEcosystems
X-ORIGINAL-URL:https://olyecosystems.org
X-WR-CALDESC:Events for OlyEcosystems
REFRESH-INTERVAL;VALUE=DURATION:PT1H
X-Robots-Tag:noindex
X-PUBLISHED-TTL:PT1H
BEGIN:VTIMEZONE
TZID:America/Los_Angeles
BEGIN:DAYLIGHT
TZOFFSETFROM:-0800
TZOFFSETTO:-0700
TZNAME:PDT
DTSTART:20240310T100000
END:DAYLIGHT
BEGIN:STANDARD
TZOFFSETFROM:-0700
TZOFFSETTO:-0800
TZNAME:PST
DTSTART:20241103T090000
END:STANDARD
BEGIN:DAYLIGHT
TZOFFSETFROM:-0800
TZOFFSETTO:-0700
TZNAME:PDT
DTSTART:20250309T100000
END:DAYLIGHT
BEGIN:STANDARD
TZOFFSETFROM:-0700
TZOFFSETTO:-0800
TZNAME:PST
DTSTART:20251102T090000
END:STANDARD
BEGIN:DAYLIGHT
TZOFFSETFROM:-0800
TZOFFSETTO:-0700
TZNAME:PDT
DTSTART:20260308T100000
END:DAYLIGHT
BEGIN:STANDARD
TZOFFSETFROM:-0700
TZOFFSETTO:-0800
TZNAME:PST
DTSTART:20261101T090000
END:STANDARD
END:VTIMEZONE
BEGIN:VEVENT
DTSTART;TZID=America/Los_Angeles:20251025T100000
DTEND;TZID=America/Los_Angeles:20251025T140000
DTSTAMP:20260425T062945
CREATED:20251001T162232Z
LAST-MODIFIED:20251024T015006Z
UID:1315-1761386400-1761400800@olyecosystems.org
SUMMARY:[CANCELLED due to inclement weather!] Volunteer Work Party
DESCRIPTION:Sadly\, due to inclement weather\, we have had to cancel this Volunteer Work Party. We look forward to seeing you next on Nov. 22.
URL:https://olyecosystems.org/event/work-party-to-prep-the-bob-barnes-legacy-grove/
LOCATION:Dickinson Ave NW Trailhead\, 1319 Dickinson Ave NW\, Olympia\, WA\, 98502\, United States
END:VEVENT
END:VCALENDAR