BEGIN:VCALENDAR
VERSION:2.0
PRODID:-//OlyEcosystems - ECPv6.15.20//NONSGML v1.0//EN
CALSCALE:GREGORIAN
METHOD:PUBLISH
X-ORIGINAL-URL:https://olyecosystems.org
X-WR-CALDESC:Events for OlyEcosystems
REFRESH-INTERVAL;VALUE=DURATION:PT1H
X-Robots-Tag:noindex
X-PUBLISHED-TTL:PT1H
BEGIN:VTIMEZONE
TZID:America/Los_Angeles
BEGIN:DAYLIGHT
TZOFFSETFROM:-0800
TZOFFSETTO:-0700
TZNAME:PDT
DTSTART:20240310T100000
END:DAYLIGHT
BEGIN:STANDARD
TZOFFSETFROM:-0700
TZOFFSETTO:-0800
TZNAME:PST
DTSTART:20241103T090000
END:STANDARD
BEGIN:DAYLIGHT
TZOFFSETFROM:-0800
TZOFFSETTO:-0700
TZNAME:PDT
DTSTART:20250309T100000
END:DAYLIGHT
BEGIN:STANDARD
TZOFFSETFROM:-0700
TZOFFSETTO:-0800
TZNAME:PST
DTSTART:20251102T090000
END:STANDARD
BEGIN:DAYLIGHT
TZOFFSETFROM:-0800
TZOFFSETTO:-0700
TZNAME:PDT
DTSTART:20260308T100000
END:DAYLIGHT
BEGIN:STANDARD
TZOFFSETFROM:-0700
TZOFFSETTO:-0800
TZNAME:PST
DTSTART:20261101T090000
END:STANDARD
END:VTIMEZONE
BEGIN:VEVENT
DTSTART;TZID=America/Los_Angeles:20250823T100000
DTEND;TZID=America/Los_Angeles:20250823T113000
DTSTAMP:20260425T151816
CREATED:20250805T150544Z
LAST-MODIFIED:20250805T151643Z
UID:1307-1755943200-1755948600@olyecosystems.org
SUMMARY:Saturday Stroll through the West Bay Woods
DESCRIPTION:Join us for a guided tour through the West Bay Woods! \nOlympia Ecosystems’ Board President\, Sarah Hamman\, will lead a walk through the woods\, discussing the history of the site\, our restoration goals\, restoration actions to date\, and stewardship plans for the future. We’ll also discuss the important roles that urban forests play for local wildlife\, stormwater quality\, cultural resources\, and human health. Any and all questions about plant ID are also welcome! We’ll have some coffee and water for folks to enjoy along the way so bring your coffee mugs and water bottles to fill for the casual Saturday stroll through the woods!  \nWhat: Saturday Stroll through the West Bay Woods\nWhen: August 23rd\, 10-11:30am\nWhere: Dickinson Ave trailhead (1212 Dickinson Ave NW). If you’re driving\, please park on Rogers and walk down Dickinson to the trailhead.\nWhy: Learn about the history\, current restoration work\, and future vision for this urban forest\, and enjoy a beautiful morning walk through the woods!\nOther details: Some of the trails are fairly steep\, none of them are paved\, and there are a few stairs. Please wear sturdy shoes! We will start and end at Dickinson Ave NW.
URL:https://olyecosystems.org/event/saturday-stroll-through-the-west-bay-woods/
LOCATION:Dickinson Ave NW Trailhead\, 1319 Dickinson Ave NW\, Olympia\, WA\, 98502\, United States
END:VEVENT
END:VCALENDAR