BEGIN:VCALENDAR
VERSION:2.0
PRODID:-//OlyEcosystems - ECPv6.15.20//NONSGML v1.0//EN
CALSCALE:GREGORIAN
METHOD:PUBLISH
X-WR-CALNAME:OlyEcosystems
X-ORIGINAL-URL:https://olyecosystems.org
X-WR-CALDESC:Events for OlyEcosystems
REFRESH-INTERVAL;VALUE=DURATION:PT1H
X-Robots-Tag:noindex
X-PUBLISHED-TTL:PT1H
BEGIN:VTIMEZONE
TZID:America/Los_Angeles
BEGIN:DAYLIGHT
TZOFFSETFROM:-0800
TZOFFSETTO:-0700
TZNAME:PDT
DTSTART:20240310T100000
END:DAYLIGHT
BEGIN:STANDARD
TZOFFSETFROM:-0700
TZOFFSETTO:-0800
TZNAME:PST
DTSTART:20241103T090000
END:STANDARD
BEGIN:DAYLIGHT
TZOFFSETFROM:-0800
TZOFFSETTO:-0700
TZNAME:PDT
DTSTART:20250309T100000
END:DAYLIGHT
BEGIN:STANDARD
TZOFFSETFROM:-0700
TZOFFSETTO:-0800
TZNAME:PST
DTSTART:20251102T090000
END:STANDARD
BEGIN:DAYLIGHT
TZOFFSETFROM:-0800
TZOFFSETTO:-0700
TZNAME:PDT
DTSTART:20260308T100000
END:DAYLIGHT
BEGIN:STANDARD
TZOFFSETFROM:-0700
TZOFFSETTO:-0800
TZNAME:PST
DTSTART:20261101T090000
END:STANDARD
END:VTIMEZONE
BEGIN:VEVENT
DTSTART;TZID=America/Los_Angeles:20250120T100000
DTEND;TZID=America/Los_Angeles:20250120T140000
DTSTAMP:20260420T015158
CREATED:20250108T054854Z
LAST-MODIFIED:20250108T054854Z
UID:1253-1737367200-1737381600@olyecosystems.org
SUMMARY:Work Party for Martin Luther King Jr. Day
DESCRIPTION:This year for Martin Luther King Jr. Day\, we will be hosting a large work party in the West Bay Woods. As a community\, we will be planting trees and shrubs and installing tree-protector cages. In the past\, the crowd has finished the task a bit early — Thank you\, enthusiastic Volunteers!! — so we have also planned alternate weed-pulling projects for those avid weeders out there. Bring your work gloves\, your favorite snack\, and weather-ready clothes! Come on foot if you can. If you need to drive\, please park on Rogers Street NW.
URL:https://olyecosystems.org/event/work-party-for-martin-luther-king-jr-day/
LOCATION:West Bay Woods
END:VEVENT
END:VCALENDAR